BEGIN:VCALENDAR
VERSION:2.0
PRODID:-//Memorial Park - ECPv6.15.20//NONSGML v1.0//EN
CALSCALE:GREGORIAN
METHOD:PUBLISH
X-ORIGINAL-URL:https://memparkjax.org
X-WR-CALDESC:Events for Memorial Park
REFRESH-INTERVAL;VALUE=DURATION:PT1H
X-Robots-Tag:noindex
X-PUBLISHED-TTL:PT1H
BEGIN:VTIMEZONE
TZID:America/New_York
BEGIN:DAYLIGHT
TZOFFSETFROM:-0500
TZOFFSETTO:-0400
TZNAME:EDT
DTSTART:20240310T070000
END:DAYLIGHT
BEGIN:STANDARD
TZOFFSETFROM:-0400
TZOFFSETTO:-0500
TZNAME:EST
DTSTART:20241103T060000
END:STANDARD
BEGIN:DAYLIGHT
TZOFFSETFROM:-0500
TZOFFSETTO:-0400
TZNAME:EDT
DTSTART:20250309T070000
END:DAYLIGHT
BEGIN:STANDARD
TZOFFSETFROM:-0400
TZOFFSETTO:-0500
TZNAME:EST
DTSTART:20251102T060000
END:STANDARD
BEGIN:DAYLIGHT
TZOFFSETFROM:-0500
TZOFFSETTO:-0400
TZNAME:EDT
DTSTART:20260308T070000
END:DAYLIGHT
BEGIN:STANDARD
TZOFFSETFROM:-0400
TZOFFSETTO:-0500
TZNAME:EST
DTSTART:20261101T060000
END:STANDARD
END:VTIMEZONE
BEGIN:VEVENT
DTSTART;TZID=America/New_York:20250526T180000
DTEND;TZID=America/New_York:20250526T200000
DTSTAMP:20260421T165018
CREATED:20240430T145913Z
LAST-MODIFIED:20250504T195239Z
UID:3590-1748282400-1748289600@memparkjax.org
SUMMARY:FREE Memorial Concert & Picnic
DESCRIPTION:Free concert Monday\, May 26\, 2025 | Starts at 6:00 PM\n \nBring folding chairs and blankets.
URL:https://memparkjax.org/event/memorial-concert-picnic/
LOCATION:Memorial Park\, 1620 Riverside Avenue\, Jacksonville\, FL\, 32204\, United States
CATEGORIES:Featured Events,Memorial Concert,Memorial Park Association
ATTACH;FMTTYPE=image/jpeg:https://memparkjax.org/wp-content/uploads/2024/04/MPA-25004_MemorialDay_Graphic_1450x1070_2.jpg
END:VEVENT
BEGIN:VEVENT
DTSTART;TZID=America/New_York:20251221T150000
DTEND;TZID=America/New_York:20251221T180000
DTSTAMP:20260421T165018
CREATED:20251211T135506Z
LAST-MODIFIED:20251215T143139Z
UID:3910-1766329200-1766340000@memparkjax.org
SUMMARY:Grand Opening: The Memorial Garden
DESCRIPTION:The Memorial Park Association invites the community to join them for the official unveiling of their newest addition to the park\, the Memorial Garden. It lists the names of The Florida Fallen\, honoring the men and women who made the ultimate sacrifice serving in World War I. Along with honoring the fallen\, the garden details the park’s storied history\, and thanks the donors\, both individuals and institutions\, who help preserve this special place for future generations. \nThis free event will kick off at 3 p.m. with the Memorial Garden dedication ceremony\, followed by live music\, food trucks and family-friendly entertainment\, including a trackless train and visit from Santa. Once the sun sets\, traditional Luminaria festivities will begin. \nWhen:\nSunday\, December 21\, 2025\n3 pm – 6 pm \nWho: \nFood Vendors\n– Chinchilla’s Eats on the Streets\n– Consabor\n– Millie’s – hot chocolate and ice cream \nMusic provided by Sonar AV \nWhere:\n1620 Riverside Ave\nJacksonville\, FL 32204
URL:https://memparkjax.org/event/grand-opening-the-memorial-garden/
LOCATION:Memorial Park\, 1620 Riverside Avenue\, Jacksonville\, FL\, 32204\, United States
ATTACH;FMTTYPE=image/jpeg:https://memparkjax.org/wp-content/uploads/2025/12/DSC_8528-scaled.jpg
ORGANIZER;CN="Memorial Park Association":MAILTO:info@memparkjax.org
END:VEVENT
END:VCALENDAR