BEGIN:VCALENDAR
VERSION:2.0
PRODID:-//Memorial Park - ECPv6.15.20//NONSGML v1.0//EN
CALSCALE:GREGORIAN
METHOD:PUBLISH
X-WR-CALNAME:Memorial Park
X-ORIGINAL-URL:https://memparkjax.org
X-WR-CALDESC:Events for Memorial Park
REFRESH-INTERVAL;VALUE=DURATION:PT1H
X-Robots-Tag:noindex
X-PUBLISHED-TTL:PT1H
BEGIN:VTIMEZONE
TZID:America/New_York
BEGIN:DAYLIGHT
TZOFFSETFROM:-0500
TZOFFSETTO:-0400
TZNAME:EDT
DTSTART:20170312T070000
END:DAYLIGHT
BEGIN:STANDARD
TZOFFSETFROM:-0400
TZOFFSETTO:-0500
TZNAME:EST
DTSTART:20171105T060000
END:STANDARD
BEGIN:DAYLIGHT
TZOFFSETFROM:-0500
TZOFFSETTO:-0400
TZNAME:EDT
DTSTART:20180311T070000
END:DAYLIGHT
BEGIN:STANDARD
TZOFFSETFROM:-0400
TZOFFSETTO:-0500
TZNAME:EST
DTSTART:20181104T060000
END:STANDARD
BEGIN:DAYLIGHT
TZOFFSETFROM:-0500
TZOFFSETTO:-0400
TZNAME:EDT
DTSTART:20190310T070000
END:DAYLIGHT
BEGIN:STANDARD
TZOFFSETFROM:-0400
TZOFFSETTO:-0500
TZNAME:EST
DTSTART:20191103T060000
END:STANDARD
END:VTIMEZONE
BEGIN:VEVENT
DTSTART;TZID=America/New_York:20181006T100000
DTEND;TZID=America/New_York:20181006T110000
DTSTAMP:20260425T102047
CREATED:20180910T220624Z
LAST-MODIFIED:20180910T220624Z
UID:1509-1538820000-1538823600@memparkjax.org
SUMMARY:Memorial Park Association Speaker Series: Christopher D. Flagg and Eric Lycke\, Haskell
DESCRIPTION:During the centennial of the Great War (1914-18)\, the Memorial Park Association will host a series of special programs and events to commemorate the first global war in history. See the Association’s Upcoming Events for a full list of programs. \nThe fourth Speaker Series will feature Christopher D. Flagg and Eric Lycke of Haskell. They will speak about Elevating Design & Design Thinking: Memorial Park Then & Now”. After their talk\, please join the Association for the Memorial Park Walking Tour. \nThe Speaker Series and Memorial Park Walking our are FREE!
URL:https://memparkjax.org/event/memorial-park-association-speaker-series-flagg-lycke-haskell-2/
CATEGORIES:Chris Flagg,Eric Lycke,Event,Haskell,Landscape,Memorial Park Association,Memorial Park Walking Tour,Memorial Park WWI Centennial Commemoration Event,Speaker Series
END:VEVENT
BEGIN:VEVENT
DTSTART;TZID=America/New_York:20181006T090000
DTEND;TZID=America/New_York:20181006T100000
DTSTAMP:20260425T102047
CREATED:20180925T014426Z
LAST-MODIFIED:20180925T014426Z
UID:1520-1538816400-1538820000@memparkjax.org
SUMMARY:Memorial Park Clean Up
DESCRIPTION:Come assist the Memorial Park Association in cleaning up Memorial Park. Clean ups will be held on Saturday mornings from 9am to 10am. Tools will be provided\, with the exception of adult gloves. Kids are encouraged to join in! We will have small gloves and tools for them. The Association will also provide ice water and treats.\n\n\n \n\n\nAfter each clean up\, please stay for MPA’s Speaker Series which will begin at 10am!
URL:https://memparkjax.org/event/memorial-park-clean-up-2-2/
CATEGORIES:Clean Up,Landscape and Grounds,Memorial Park Association,Memorial Park WWI Centennial Commemoration Event
END:VEVENT
BEGIN:VEVENT
DTSTART;TZID=America/New_York:20180929T100000
DTEND;TZID=America/New_York:20180929T110000
DTSTAMP:20260425T102047
CREATED:20180910T023726Z
LAST-MODIFIED:20180910T023726Z
UID:1506-1538215200-1538218800@memparkjax.org
SUMMARY:Memorial Park Association Speaker Series: Diane LaFond\, Sculptor Memorial Park Eagles
DESCRIPTION:During the centennial of the Great War (1914-18)\, the Memorial Park Association will host a series of special programs and events to commemorate the first global war in history. See the Association’s Upcoming Events for a full list of programs. \nThe third Speaker Series will feature Diane LaFond of sculptor of the Memorial Park Eagles. She will speak about the inspiration and creation of the Eagles. After her talk\, please join the Association for the Memorial Park Walking Tour. \nThe Speaker Series and Memorial Park Walking Tour are FREE!
URL:https://memparkjax.org/event/memorial-park-association-speaker-series-diane-lafond-eagles-2/
CATEGORIES:Diane LaFond,Eagles,Event,Memorial Park Association,Memorial Park Walking Tour,Memorial Park WWI Centennial Commemoration Event,Sculptor,Speaker Series
END:VEVENT
BEGIN:VEVENT
DTSTART;TZID=America/New_York:20180929T090000
DTEND;TZID=America/New_York:20180929T100000
DTSTAMP:20260425T102047
CREATED:20180925T012909Z
LAST-MODIFIED:20180925T012909Z
UID:1518-1538211600-1538215200@memparkjax.org
SUMMARY:Memorial Park Clean Up
DESCRIPTION:Come assist the Memorial Park Association in cleaning up Memorial Park. Clean ups will be held on Saturday mornings from 9am to 10am. Tools will be provided\, with the exception of adult gloves. Kids are encouraged to join in! We will have small gloves and tools for them. The Association will also provide ice water and treats.\n\n\n \n\n\nAfter each clean up\, please stay for MPA’s Speaker Series which will begin at 10am!
URL:https://memparkjax.org/event/memorial-park-clean-up-2/
CATEGORIES:Clean Up,Landscape and Grounds,Memorial Park Association,Memorial Park WWI Centennial Commemoration Event
END:VEVENT
BEGIN:VEVENT
DTSTART;TZID=America/New_York:20180922T100000
DTEND;TZID=America/New_York:20180922T110000
DTSTAMP:20260425T102047
CREATED:20180910T022627Z
LAST-MODIFIED:20180910T022627Z
UID:1505-1537610400-1537614000@memparkjax.org
SUMMARY:Memorial Park Association Speaker Series: Warren Jones\, Riverside Avondale Preservation
DESCRIPTION:During the centennial of the Great War (1914-18)\, the Memorial Park Association will host a series of special programs and events to commemorate the first global war in history. See the Association’s Upcoming Events for a full list of programs. \nThe second Speaker Series will feature Warren Jones of Riverside Avondale Preservation. He will speak about Memorial Park’s Importance in the Historic District. After his talk\, please join the Association for the Memorial Park Walking Tour. \nThe Speaker Series and Memorial Park Walking Tour are FREE!
URL:https://memparkjax.org/event/memorial-park-association-speaker-series-warren-jones-riverside-avondale-preservation-2/
CATEGORIES:Event,Memorial Park Association,Memorial Park Walking Tour,Memorial Park WWI Centennial Commemoration Event,RAP,Riverside Avondale Preservation,Speaker Series,Warren Jones
END:VEVENT
BEGIN:VEVENT
DTSTART;TZID=America/New_York:20180922T090000
DTEND;TZID=America/New_York:20180922T100000
DTSTAMP:20260425T102047
CREATED:20180918T173532Z
LAST-MODIFIED:20180918T173532Z
UID:1514-1537606800-1537610400@memparkjax.org
SUMMARY:Memorial Park Clean Up
DESCRIPTION:Come assist the Memorial Park Association in cleaning up Memorial Park. Clean ups will be held on Saturday mornings from 9am to 10am. Tools will be provided\, with the exception of adult gloves. Kids are encouraged to join in! We will have small gloves and tools for them. The Association will also provide ice water and treats.\n\n\n \n\n\nAfter each clean up\, please stay for MPA’s Speaker Series which will begin at 10am!
URL:https://memparkjax.org/event/memorial-park-clean-up/
CATEGORIES:Clean Up,Landscape and Grounds,Memorial Park Association,Memorial Park WWI Centennial Commemoration Event
END:VEVENT
BEGIN:VEVENT
DTSTART;TZID=America/New_York:20180915T100000
DTEND;TZID=America/New_York:20180915T110000
DTSTAMP:20260425T102047
CREATED:20180910T022107Z
LAST-MODIFIED:20180910T022107Z
UID:1504-1537005600-1537009200@memparkjax.org
SUMMARY:Memorial Park Association Speaker Series: Mark Krancer\, Kram Kran Photo
DESCRIPTION:During the centennial of the Great War (1914-18)\, the Memorial Park Association will host a series of special programs and events to commemorate the first global war in history. See the Association’s Upcoming Events for a full list of programs. \nThe first Speaker Series will feature Mark Krancer of Kram Kran Photo. He will speak about the Impact & Influence of Memorial Park on his Life. After his talk\, please join the Association for the Memorial Park Walking Tour.\nThe Speaker Series and Memorial Park Walking Tour are FREE! \nAs a fine art photographer who has exhibited around the globe\, Mark Krancer captures beauty as he sees it. His is “Life In The River” photo was captured while standing waist-deep in water during Hurricane Irma’s damage to Memorial Park. This iconic photo has become a symbol of hope for Riverside/Avondale reflecting the perseverance of the neighborhood as it still faces recovery of this tragedy. \nJoin us on September 15 at 10am to hear Mark tell his story!
URL:https://memparkjax.org/event/memorial-park-association-speaker-series-mark-krancer-kram-kran-photo-2/
CATEGORIES:Event,Kram Kran Photo,Mark Krancer,Memorial Park Association,Memorial Park Walking Tour,Memorial Park WWI Centennial Commemoration Event,Speaker Series
END:VEVENT
BEGIN:VEVENT
DTSTART;TZID=America/New_York:20180902T190000
DTEND;TZID=America/New_York:20180902T200000
DTSTAMP:20260425T102047
CREATED:20180721T024252Z
LAST-MODIFIED:20180721T024252Z
UID:1503-1535914800-1535918400@memparkjax.org
SUMMARY:RESCHEDULED: Memorial Concert & Picnic in the Park
DESCRIPTION:MPA HAS RESCHEDULED THE MEMORIAL CONCERT & PICNIC IN THE PARK FOR SUNDAY\, SEPTEMBER 2\, 2018 AT 7PM.\n(The Concert was originally scheduled for May 27\, but was canceled due to the weather.) \nMEMORIAL CONCERT HONORING OUR FALLEN HEROES\nIn collaboration with the City of Jacksonville\, the Memorial Park Association? presents\, A Memorial Concert to be held in Memorial Park. On the eve of Memorial Day\, the Memorial Park Association will host a FREE concert\, honoring all Americans who died while in the military service. \nThe FREE Concert is Featuring:\nThe U. S. Navy Ceremonial Band (Navy Band Southeast?)\nIn Memorial Park\n1620 Riverside Ave. \nStarts at 6:00PM \nAttendees are encouraged to bring their own blankets or folding chairs and can bring their own picnic to enjoy during or after the concert. Everyone is also encouraged to wear RED\, White & BLUE! \nCome early and bring your own picnic. Don’t want to pack your own picnic? Tell your friends! \nEvent Updates can also be found on our Facebook Page
URL:https://memparkjax.org/event/rescheduled-memorial-concert-picnic-in-the-park-2/
CATEGORIES:Memorial Concert,Memorial Park Association
END:VEVENT
BEGIN:VEVENT
DTSTART;TZID=America/New_York:20180630T190000
DTEND;TZID=America/New_York:20180630T203000
DTSTAMP:20260425T102047
CREATED:20180612T180417Z
LAST-MODIFIED:20180612T180417Z
UID:1502-1530385200-1530390600@memparkjax.org
SUMMARY:The United States Army Field Band\, Jazz Ambassadors Concert to be held June 30\, 2018 at 7PM
DESCRIPTION:In collaboration with the City of Jacksonville\, the Memorial Park Association? presents\, the Jazz Ambassadors! Come to hear the military’s finest practitioners of jazz and swing. The Army’s official touring big band\, this 19-member jazz ensemble has received widespread acclaim at home and abroad\, earning the Jazz Ambassadors the title “America’s Big Band”. This concert is FREE and open to the public. This event is part of the Jazz Ambassadors Summer Tour 2018. \n\n\n\nAttendees are encouraged to bring their own blankets or folding chairs. For additional information call 904-630-3625 or visit memparkjax.org/event.\n\n\nEvent Updates can also be found on our Facebook Page
URL:https://memparkjax.org/event/the-united-states-army-field-band-jazz-ambassadors-concert-2/
CATEGORIES:Memorial Concert,Memorial Park Association
END:VEVENT
BEGIN:VEVENT
DTSTART;TZID=America/New_York:20180527T180000
DTEND;TZID=America/New_York:20180527T193000
DTSTAMP:20260425T102047
CREATED:20180508T085059Z
LAST-MODIFIED:20180508T085059Z
UID:1501-1527444000-1527449400@memparkjax.org
SUMMARY:CANCELLED DUE TO WEATHER: Memorial Concert & Picnic in the Park
DESCRIPTION:CONCERT HAS BEEN CANCELLED DUE TO WEATHER. CHECK BACK FOR UPDATES\nMEMORIAL CONCERT HONORING OUR FALLEN HEROES\nIn collaboration with the City of Jacksonville\, the Memorial Park Association? presents\, A Memorial Concert to be held in Memorial Park. On the eve of Memorial Day\, the Memorial Park Association will host a FREE concert\, honoring all Americans who died while in the military service. \nThe FREE Concert is Featuring:\nThe U. S. Navy Ceremonial Band (Navy Band Southeast?)\nIn Memorial Park\n1620 Riverside Ave. \nStarts at 6:00PM \nAttendees are encouraged to bring their own blankets or folding chairs and can bring their own picnic to enjoy during or after the concert. Everyone is also encouraged to wear RED\, White & BLUE! \nThere will be a flyover by The Warbirds Flyover Team! \n \nCome early and bring your own picnic. Don’t want to pack your own picnic? No worries\, there will be food trucks this year! Thanks\, Murray Hillbilly\, Not Your Mama’s Eats & Treats and Extreme Burgers & Shakes for joining the event! The Hyppo Jacksonville will have their very popular and festive pop\, strawberry\, coconut\, and blueberry! \nYou DON’T want to be late! We have some very exciting things planned! Tell your friends! \nEvent Updates can also be found on our Facebook Page
URL:https://memparkjax.org/event/memorial-concert-picnic-in-the-park-2/
CATEGORIES:Memorial Concert,Memorial Park Association
END:VEVENT
END:VCALENDAR