BEGIN:VCALENDAR
VERSION:2.0
PRODID:-//Memorial Park - ECPv6.15.20//NONSGML v1.0//EN
CALSCALE:GREGORIAN
METHOD:PUBLISH
X-ORIGINAL-URL:https://memparkjax.org
X-WR-CALDESC:Events for Memorial Park
REFRESH-INTERVAL;VALUE=DURATION:PT1H
X-Robots-Tag:noindex
X-PUBLISHED-TTL:PT1H
BEGIN:VTIMEZONE
TZID:America/New_York
BEGIN:DAYLIGHT
TZOFFSETFROM:-0500
TZOFFSETTO:-0400
TZNAME:EDT
DTSTART:20230312T070000
END:DAYLIGHT
BEGIN:STANDARD
TZOFFSETFROM:-0400
TZOFFSETTO:-0500
TZNAME:EST
DTSTART:20231105T060000
END:STANDARD
BEGIN:DAYLIGHT
TZOFFSETFROM:-0500
TZOFFSETTO:-0400
TZNAME:EDT
DTSTART:20240310T070000
END:DAYLIGHT
BEGIN:STANDARD
TZOFFSETFROM:-0400
TZOFFSETTO:-0500
TZNAME:EST
DTSTART:20241103T060000
END:STANDARD
BEGIN:DAYLIGHT
TZOFFSETFROM:-0500
TZOFFSETTO:-0400
TZNAME:EDT
DTSTART:20250309T070000
END:DAYLIGHT
BEGIN:STANDARD
TZOFFSETFROM:-0400
TZOFFSETTO:-0500
TZNAME:EST
DTSTART:20251102T060000
END:STANDARD
END:VTIMEZONE
BEGIN:VEVENT
DTSTART;TZID=America/New_York:20241214T150000
DTEND;TZID=America/New_York:20241214T180000
DTSTAMP:20260420T205747
CREATED:20241028T135420Z
LAST-MODIFIED:20241028T135420Z
UID:3633-1734188400-1734199200@memparkjax.org
SUMMARY:Recreate Memorial Park's Opening Day Picture
DESCRIPTION:Join us in celebrating 100 years of Memorial Park by recreating the opening day photograph. We’ll have live music\, food trucks and local vendors. Mark Krancer will take the picture at 4:00pm.
URL:https://memparkjax.org/event/recreate-memorial-parks-opening-day-picture/
LOCATION:Memorial Park\, 1620 Riverside Avenue\, Jacksonville\, FL\, 32204\, United States
CATEGORIES:Event,Featured Events,Memorial Park Association
ATTACH;FMTTYPE=image/png:https://memparkjax.org/wp-content/uploads/2024/10/Screenshot-2024-10-28-at-9.50.47-AM.png
END:VEVENT
END:VCALENDAR